BEGIN:VCALENDAR
VERSION:2.0
PRODID:-//The Western New York Peace Center - ECPv6.15.20//NONSGML v1.0//EN
CALSCALE:GREGORIAN
METHOD:PUBLISH
X-WR-CALNAME:The Western New York Peace Center
X-ORIGINAL-URL:https://www.wnypeace.org
X-WR-CALDESC:Events for The Western New York Peace Center
REFRESH-INTERVAL;VALUE=DURATION:PT1H
X-Robots-Tag:noindex
X-PUBLISHED-TTL:PT1H
BEGIN:VTIMEZONE
TZID:America/New_York
BEGIN:DAYLIGHT
TZOFFSETFROM:-0500
TZOFFSETTO:-0400
TZNAME:EDT
DTSTART:20250309T070000
END:DAYLIGHT
BEGIN:STANDARD
TZOFFSETFROM:-0400
TZOFFSETTO:-0500
TZNAME:EST
DTSTART:20251102T060000
END:STANDARD
BEGIN:DAYLIGHT
TZOFFSETFROM:-0500
TZOFFSETTO:-0400
TZNAME:EDT
DTSTART:20260308T070000
END:DAYLIGHT
BEGIN:STANDARD
TZOFFSETFROM:-0400
TZOFFSETTO:-0500
TZNAME:EST
DTSTART:20261101T060000
END:STANDARD
BEGIN:DAYLIGHT
TZOFFSETFROM:-0500
TZOFFSETTO:-0400
TZNAME:EDT
DTSTART:20270314T070000
END:DAYLIGHT
BEGIN:STANDARD
TZOFFSETFROM:-0400
TZOFFSETTO:-0500
TZNAME:EST
DTSTART:20271107T060000
END:STANDARD
END:VTIMEZONE
BEGIN:VEVENT
DTSTART;TZID=America/New_York:20260202T190000
DTEND;TZID=America/New_York:20260202T210000
DTSTAMP:20260421T040907
CREATED:20260127T224915Z
LAST-MODIFIED:20260127T224915Z
UID:20473-1770058800-1770066000@www.wnypeace.org
SUMMARY:LASC coffeehouse: Jim Anderson\, on Peace Action and educating to stop wars (new date)
DESCRIPTION:Belated-January Peace Coffeehouse:  7-9pm\, Monday\, February 2\, 2026.   Canisius University Science Hall \nPeace Action and Educating to Stop Wars\nSpeaker: Jim Anderson: a Vietnam veteran — turned international peace and social justice activist\, Jim is deeply engaged in intersectional organizing across issue areas. Jim is the President of Peace Action New York State and State Vice President of Citizen Action of New York. He also serves as Co-Chair of the Board of Directors of national Peace Action. He is a founding member and organizer of the National Black United Front\, which led the formation of the Third World and Progressive People’s Coalition that helped organize the massive June 12th\, 1982\, nuclear disarmament rally in New York City’s Central Park. Jim served as an organizer and leader for the peace contingents of both the 2014 New York City and 2017 Washington\, DC. climate mobilizations. \nPeace Action New York State (PANYS) is the state affiliate of Peace Action\, the nation’s largest grassroots peace network with chapters and affiliates across the country placing pressure on Congress and the Administration to promote peace. We are a 501(c)(4) nonprofit membership organization that uses lobbying and direct political action to complement the work of the Peace Action Fund of New York State. We connect activists in community and campus chapters for coordinated action to demand U.S. foreign policy that promotes diplomacy and human needs\, and to challenge militarism at home and abroad. With chapters across the entire state\, Peace Action New York is able to mobilize and organize thousands of students\, community activists and policymakers. State-wide actions are coordinated \nScreenshot \nthrough the state office\, and we bring the voice of New York to the national level. In election years\, PANYS also coordinates the Peace Voter campaign to educate voters\, endorse candidates who support peaceful policy\, and get out the vote across New York!
URL:https://www.wnypeace.org/event/lasc-coffeehouse-jim-anderson-on-peace-action-and-educating-to-stop-wars-new-date/
LOCATION:Canisius College-Science Hall\, 2001 Main St.\, Buffalo\, 14208\, United States
END:VEVENT
END:VCALENDAR